BEGIN:VCALENDAR
VERSION:2.0
PRODID:-//Etis - ECPv6.15.20//NONSGML v1.0//EN
CALSCALE:GREGORIAN
METHOD:PUBLISH
X-WR-CALNAME:Etis
X-ORIGINAL-URL:https://www.etis-lab.fr
X-WR-CALDESC:Events for Etis
REFRESH-INTERVAL;VALUE=DURATION:PT1H
X-Robots-Tag:noindex
X-PUBLISHED-TTL:PT1H
BEGIN:VTIMEZONE
TZID:Europe/Paris
BEGIN:DAYLIGHT
TZOFFSETFROM:+0100
TZOFFSETTO:+0200
TZNAME:CEST
DTSTART:20230326T010000
END:DAYLIGHT
BEGIN:STANDARD
TZOFFSETFROM:+0200
TZOFFSETTO:+0100
TZNAME:CET
DTSTART:20231029T010000
END:STANDARD
BEGIN:DAYLIGHT
TZOFFSETFROM:+0100
TZOFFSETTO:+0200
TZNAME:CEST
DTSTART:20240331T010000
END:DAYLIGHT
BEGIN:STANDARD
TZOFFSETFROM:+0200
TZOFFSETTO:+0100
TZNAME:CET
DTSTART:20241027T010000
END:STANDARD
BEGIN:DAYLIGHT
TZOFFSETFROM:+0100
TZOFFSETTO:+0200
TZNAME:CEST
DTSTART:20250330T010000
END:DAYLIGHT
BEGIN:STANDARD
TZOFFSETFROM:+0200
TZOFFSETTO:+0100
TZNAME:CET
DTSTART:20251026T010000
END:STANDARD
END:VTIMEZONE
BEGIN:VEVENT
DTSTART;TZID=Europe/Paris:20240704T110000
DTEND;TZID=Europe/Paris:20240704T123000
DTSTAMP:20260422T121939
CREATED:20240628T094357Z
LAST-MODIFIED:20240628T094449Z
UID:8411-1720090800-1720096200@www.etis-lab.fr
SUMMARY:Séminaire NEURO - Lionel Obadia
DESCRIPTION:“Do robots offer a good opportunity for ethnographic investigation?” reflections based on research in progress\nLionel Obadia (Université Lumière Lyon 2 / LARHRA) \nThe ethnography of robots is a fast-developing field of investigation\, but one with currently ill-defined boundaries: research based on direct experience of robots (in the lab / in the wild)\, observation\, analysis and reporting\, is gradually becoming established in the landscape of methodological approaches to the study of robots ‘in society’ or human-machine interactions. However\, not everything referred to as ethnography is based on exactly the same empirical approaches or contextualised theorising. Using a few examples taken from my own fieldwork\, in laboratories\, museums and socialisation spaces in France and Japan\, I will try to show the scope and limits of an anthropologically inspired ethnography\, in the case of robotic or robotised fieldwork\, possibly compared with other similar environmental ethnographies. \nLionel Obadia is a professor of social and cultural anthropology at the Université Lumière Lyon 2\, specialising in religions\, magic and witchcraft. He is the author of over 200 publications and several books\, including Bouddhisme et Occident (L’Harmattan)\, Shalom Bouddha! (Berg)\, La religion et La sorcellerie : mythes et réalités (Le Cavalier bleu)\, La marchandisation de Dieu (CNRS)\, L’anthropologie des religions et La spiritualité (La Découverte).
URL:https://www.etis-lab.fr/event/seminaire-neuro-lionel-obadia/
LOCATION:CY St-Martin\, ETIS meeting room\, avenue François-Mitterand\, Cergy\, France
CATEGORIES:ETIS,Seminar
ORGANIZER;CN="Joffrey Becker":MAILTO:joffrey.becker@ensea.fr
END:VEVENT
END:VCALENDAR