BEGIN:VCALENDAR
VERSION:2.0
PRODID:-//Etis - ECPv6.15.20//NONSGML v1.0//EN
CALSCALE:GREGORIAN
METHOD:PUBLISH
X-ORIGINAL-URL:https://www.etis-lab.fr
X-WR-CALDESC:Events for Etis
REFRESH-INTERVAL;VALUE=DURATION:PT1H
X-Robots-Tag:noindex
X-PUBLISHED-TTL:PT1H
BEGIN:VTIMEZONE
TZID:Europe/Paris
BEGIN:DAYLIGHT
TZOFFSETFROM:+0100
TZOFFSETTO:+0200
TZNAME:CEST
DTSTART:20240331T010000
END:DAYLIGHT
BEGIN:STANDARD
TZOFFSETFROM:+0200
TZOFFSETTO:+0100
TZNAME:CET
DTSTART:20241027T010000
END:STANDARD
BEGIN:DAYLIGHT
TZOFFSETFROM:+0100
TZOFFSETTO:+0200
TZNAME:CEST
DTSTART:20250330T010000
END:DAYLIGHT
BEGIN:STANDARD
TZOFFSETFROM:+0200
TZOFFSETTO:+0100
TZNAME:CET
DTSTART:20251026T010000
END:STANDARD
BEGIN:DAYLIGHT
TZOFFSETFROM:+0100
TZOFFSETTO:+0200
TZNAME:CEST
DTSTART:20260329T010000
END:DAYLIGHT
BEGIN:STANDARD
TZOFFSETFROM:+0200
TZOFFSETTO:+0100
TZNAME:CET
DTSTART:20261025T010000
END:STANDARD
END:VTIMEZONE
BEGIN:VEVENT
DTSTART;TZID=Europe/Paris:20250130T180000
DTEND;TZID=Europe/Paris:20250130T193000
DTSTAMP:20260422T024707
CREATED:20250122T130553Z
LAST-MODIFIED:20250122T130553Z
UID:8950-1738260000-1738265400@www.etis-lab.fr
SUMMARY:CY Université ouverte : mais quelle mouche m'a piquée ?
DESCRIPTION:Camille Simon Chane\, maîtresse de conférences à ETIS (équipe CELL)\, présentera la conférence “Quelle mouche m’a piquée ?” dans le cadre du cycle “Université ouverte” de CY Cergy Paris Université. \nPour lutter contre la transmission de maladies\, dont certains insectes comme les mouches ou les moustiques peuvent être vecteurs\, il est devenu indispensable de développer un outil de reconnaissance automatique des insectes. Dans des aires de répartition de ces insectes en pleine évolution\, de tels outils pourraient facilement\, rapidement et précisément identifier les espèces présentes localement afin d’enclencher des campagnes de prévention ciblées. Camille Simon Chane\, maitresse de conférences à l’ENSEA au sein du laboratoire ETIS présente un travail multidisciplinaire qui s’appuie sur les irisations des ailes pour reconnaître les insectes. \nDétails pratiques et inscriptions sur le site de CY Cergy Paris Université.
URL:https://www.etis-lab.fr/event/cy-universite-ouverte-mais-quelle-mouche-ma-piquee/
LOCATION:CY Cergy Paris Université\, site des Chenes\, 33 boulevard du Port\, Cergy\, 95000\, France
CATEGORIES:Conference,CYU,ETIS
ATTACH;FMTTYPE=image/png:https://www.etis-lab.fr/wp-content/uploads/2025/01/fb-uo-mouche.png
END:VEVENT
END:VCALENDAR