BEGIN:VCALENDAR
VERSION:2.0
PRODID:-//Etis - ECPv6.15.20//NONSGML v1.0//EN
CALSCALE:GREGORIAN
METHOD:PUBLISH
X-WR-CALNAME:Etis
X-ORIGINAL-URL:https://www.etis-lab.fr
X-WR-CALDESC:Events for Etis
REFRESH-INTERVAL;VALUE=DURATION:PT1H
X-Robots-Tag:noindex
X-PUBLISHED-TTL:PT1H
BEGIN:VTIMEZONE
TZID:Europe/Paris
BEGIN:DAYLIGHT
TZOFFSETFROM:+0100
TZOFFSETTO:+0200
TZNAME:CEST
DTSTART:20240331T010000
END:DAYLIGHT
BEGIN:STANDARD
TZOFFSETFROM:+0200
TZOFFSETTO:+0100
TZNAME:CET
DTSTART:20241027T010000
END:STANDARD
BEGIN:DAYLIGHT
TZOFFSETFROM:+0100
TZOFFSETTO:+0200
TZNAME:CEST
DTSTART:20250330T010000
END:DAYLIGHT
BEGIN:STANDARD
TZOFFSETFROM:+0200
TZOFFSETTO:+0100
TZNAME:CET
DTSTART:20251026T010000
END:STANDARD
BEGIN:DAYLIGHT
TZOFFSETFROM:+0100
TZOFFSETTO:+0200
TZNAME:CEST
DTSTART:20260329T010000
END:DAYLIGHT
BEGIN:STANDARD
TZOFFSETFROM:+0200
TZOFFSETTO:+0100
TZNAME:CET
DTSTART:20261025T010000
END:STANDARD
END:VTIMEZONE
BEGIN:VEVENT
DTSTART;TZID=Europe/Paris:20250307T130000
DTEND;TZID=Europe/Paris:20250307T140000
DTSTAMP:20260422T011512
CREATED:20250306T122215Z
LAST-MODIFIED:20250306T122706Z
UID:9028-1741352400-1741356000@www.etis-lab.fr
SUMMARY:Stand Up for Science / Debout pour les Sciences
DESCRIPTION:Stand Up for Science / Debout pour les Sciences\nRassemblements du vendredi 7 mars 2025 \nEn écho à la journée Stand Up for Science initiée aux États-Unis\, nous appelons à des actions de mobilisation le 7 mars en France. L’objectif est clair : défendre les sciences et les humanités\, la liberté académique et l’Université comme piliers d’une société démocratique. Les lieux et heures des rassemblements dans différentes villes figurent sur le lien ci-dessous. Pour vous renseigner (qui sommes nous ? pourquoi se mobiliser ? comment se mobiliser ?) : https://standupforscience.fr \nPour accéder aux renseignements pour chaque ville\, il suffit de zoomer et cliquer sur la carte. \nCergy\n13h – Rassemblement au pied de la passerelle Maryse-Condé (les Chênes)\, Cergy.
URL:https://www.etis-lab.fr/event/stand-up-for-science-debout-pour-les-sciences/
LOCATION:CY Cergy Paris Université – les Chenes\, 33 boulevard du Port\, Cergy\, 95000\, France
END:VEVENT
END:VCALENDAR