BEGIN:VCALENDAR
VERSION:2.0
PRODID:-//Etis - ECPv6.15.20//NONSGML v1.0//EN
CALSCALE:GREGORIAN
METHOD:PUBLISH
X-ORIGINAL-URL:https://www.etis-lab.fr
X-WR-CALDESC:Events for Etis
REFRESH-INTERVAL;VALUE=DURATION:PT1H
X-Robots-Tag:noindex
X-PUBLISHED-TTL:PT1H
BEGIN:VTIMEZONE
TZID:Europe/Paris
BEGIN:DAYLIGHT
TZOFFSETFROM:+0100
TZOFFSETTO:+0200
TZNAME:CEST
DTSTART:20240331T010000
END:DAYLIGHT
BEGIN:STANDARD
TZOFFSETFROM:+0200
TZOFFSETTO:+0100
TZNAME:CET
DTSTART:20241027T010000
END:STANDARD
BEGIN:DAYLIGHT
TZOFFSETFROM:+0100
TZOFFSETTO:+0200
TZNAME:CEST
DTSTART:20250330T010000
END:DAYLIGHT
BEGIN:STANDARD
TZOFFSETFROM:+0200
TZOFFSETTO:+0100
TZNAME:CET
DTSTART:20251026T010000
END:STANDARD
BEGIN:DAYLIGHT
TZOFFSETFROM:+0100
TZOFFSETTO:+0200
TZNAME:CEST
DTSTART:20260329T010000
END:DAYLIGHT
BEGIN:STANDARD
TZOFFSETFROM:+0200
TZOFFSETTO:+0100
TZNAME:CET
DTSTART:20261025T010000
END:STANDARD
END:VTIMEZONE
BEGIN:VEVENT
DTSTART;TZID=Europe/Paris:20250618T140000
DTEND;TZID=Europe/Paris:20250618T160000
DTSTAMP:20260421T213735
CREATED:20250606T143906Z
LAST-MODIFIED:20250606T144830Z
UID:9238-1750255200-1750262400@www.etis-lab.fr
SUMMARY:Cultural Heritage Seminar | Jon Hardeberg and Nistor Grozavu
DESCRIPTION:The next ETIS Tandem seminar will take place on Wednesday June 18th at 2 pm\, in the Curium\, at ENSEA and on zoom (link below). \nJon Yngve Hardeberg from the NTNU (Norwegian University of Science and Technology\, Colourlab) and Nistor Grozavu (ETIS UMR 8051) will talk about their work on Cultural Heritage\, abstracts are given below. \n  \nJon Yngve Hardeberg\nNTNU − Norwegian University of Science and Technology\,\nColourlab\, Department of Computer Science\, N-2815 Gjøvik\, Norway\nSpektralion AS\, N-2815 Gjøvik\, Norway \nSpectral Imaging for Cultural Heritage: Past\, Present\, and Future\nDuring the last few decades\, spectral imaging has proven to be a very useful technology for the precise documentation and non-destructive analysis of tangible cultural heritage objects [1-5]. With spectral imaging we here include various imaging technologies which allow to measure the spectral reflectance of the objects at a large number of spatial locations of the object in one operation. These technologies vary greatly in key parameters such as spatial resolution (number of pixels)\, spectral resolution (number of channels)\, cost\, and time and complexity required to capture high quality images. \nIn this talk we will first introduce the principles of spectral imaging\, before discussing how this type of imaging can be useful in the field of cultural heritage [3\,4]. Then we will present and discuss examples of our recent and ongoing research in this field\, for instance on the topics of pigment mapping in paintings [2\,5\,6\,7]\, hyperspectral analysis of stained glass windows [8]\, analysis of historical textile fragments from the Viking age\, and visualization of hyperspectral images. Finally\, considering the challenging task of properly assessing the quality of a spectral image [3\,9]\, we will discuss the question of how many spectral channels we actually need in a spectral imaging system [10\,11]. \n  \nNistor Grozavu\nETIS UMR 8051\, CY Cergy Paris University\, ENSEA\, CNRS \nUsing multimodal AI to support the preservation of Cultural Heritage under Climate Change\nHeritage materials are increasingly vulnerable to the effects of climate change. Fluctuations in temperature\, humidity\, and other environmental factors can accelerate the degradation of monuments\, yet predicting this weathering remains complex due to the wide range of influencing variables i.e. material properties\, conservation conditions\, and human activity among them. In this talk\, we will explore how artificial intelligence\, and in particular multimodal machine learning\, can help address this challenge. By integrating diverse types of data i.e. scientific images\, in situ sensor readings\, and environmental records\, we aim to better understand and anticipate material deterioration across time and context. Our work focuses on three French heritage sites: Strasbourg Cathedral\, the Bibracte archaeological area\, and the Saint-Pierre Chapel. These sites serve as case studies for developing AI models capable to predict a degradation index under different climate scenarios and opens new perspectives for long-term cultural heritage conservation planning. \n  \nReferences\n[1] H. Maître\, F. Schmitt\, J.-P. Crettez\, Y. Wu and J. Y. Hardeberg\, Spectrophotometric Image Analysis of Fine Art Paintings\, Proc. 4th Color Imaging Conference\, p. 50-53\, Scottsdale\, Arizona\, 1996 \n[2] J. Y Hardeberg\, S. George\, F. Deger\, I. Baarstad\, and J. E. Palacios\, Spectral Scream: Hyperspectral image acquisition and analysis of a masterpiece. In “Public paintings by Edvard Munch and some of his contemporaries. Changes and conservation challenges\,” Archetype Publications\, London\, 2015 \n[3] S. George\, J.Y. Hardeberg\, J. Linhares\, L. MacDonald\, C. Montagner\, S. Nascimento\, M. Picollo\, R. Pillay\, T. Vitorino\, E. K. Webb\, A Study of Spectral Imaging Acquisition and Processing for Cultural Heritage\, in “Digital Techniques for Documenting and Preserving Cultural Heritage\,” Arc Humanities Press\, 2017\, p. 100-130 \n[4] R. Pillay\, J.Y Hardeberg\, S. George\, Hyperspectral Imaging of Art: Acquisition and Calibration Workflows\, Journal of the American Institute for Conservation\, 58(1-2)\, 3-15\, 2019. \n[5] H. Deborah\, S. George\, J. Y. Hardeberg\, Spectral-divergence based pigment discrimination and mapping: A case study on The Scream (1893) by Edvard Munch. Journal of the American Institute for Conservation\, 58(1-2)\, 90-107\, 2019 \n[6] D. J. Mandal\, H. Deborah\, S. George and J. Y. Hardeberg\, “Unsupervised Clustering for Works of Art Using Hyperspectral Imaging: A Case Study on Edvard Munch’s Self-Portrait (1905)\, 13th Workshop on Hyperspectral Imaging and Signal Processing: Evolution in Remote Sensing (WHISPERS)\, 2023 \n[7] N. Eckertz\, H. Deborah\, J. Y. Hardeberg\, and I. C. A. Sandu\, Spatially Constrained Hyperspectral Pigment Mapping Using Watershed Segmentation\, 14th Workshop on Hyperspectral Imaging and Signal Processing: Evolution in Remote Sensing (WHISPERS) 2024 \n[8] A. Babini\, S. George\, T. Lombardo\, and J. Y. Hardeberg. Acquisition strategies for in-situ hyperspectral imaging of stained-glass windows: case studies from the Swiss National Museum. Heritage Science\, 11:74\, 2023 \n[9] R. Shrestha\, R. Pillay\, S. George\, J. Y. Hardeberg\, Quality evaluation in spectral imaging – Quality factors and metrics. Journal of the International Colour Association\, 10 p. 22-35\, 2014 \n[10] A. Alsam\, D. Connah\, J. Hardeberg\, Multispectral Imaging: How Many Sensors Do We Need? Journal of Imaging Science and Technology\, 2006\, pp 45 – 52. \n[11] M. Amiri\, G. Trumpy\, “Is Multispectral enough” An evaluation of the performance of multispectral images in pigment unmixing task\,” Proc. London Imaging Meeting\, 2024 \n 
URL:https://www.etis-lab.fr/event/cultural-heritage-seminar-jon-hardeberg-and-nistor-grozavu/
LOCATION:ENSEA\, Curium\, avenue du Ponceau\, Cergy\, 95014\, France
CATEGORIES:ETIS,Seminar
ATTACH;FMTTYPE=image/png:https://www.etis-lab.fr/wp-content/uploads/2025/06/ETIS_seminaire_20250618.png
ORGANIZER;CN="Camille Simon Chane":MAILTO:camille.simon-chane@ensea.fr
END:VEVENT
END:VCALENDAR