BEGIN:VCALENDAR
VERSION:2.0
PRODID:-//Etis - ECPv6.15.20//NONSGML v1.0//EN
CALSCALE:GREGORIAN
METHOD:PUBLISH
X-ORIGINAL-URL:https://www.etis-lab.fr
X-WR-CALDESC:Events for Etis
REFRESH-INTERVAL;VALUE=DURATION:PT1H
X-Robots-Tag:noindex
X-PUBLISHED-TTL:PT1H
BEGIN:VTIMEZONE
TZID:Europe/Paris
BEGIN:DAYLIGHT
TZOFFSETFROM:+0100
TZOFFSETTO:+0200
TZNAME:CEST
DTSTART:20250330T010000
END:DAYLIGHT
BEGIN:STANDARD
TZOFFSETFROM:+0200
TZOFFSETTO:+0100
TZNAME:CET
DTSTART:20251026T010000
END:STANDARD
BEGIN:DAYLIGHT
TZOFFSETFROM:+0100
TZOFFSETTO:+0200
TZNAME:CEST
DTSTART:20260329T010000
END:DAYLIGHT
BEGIN:STANDARD
TZOFFSETFROM:+0200
TZOFFSETTO:+0100
TZNAME:CET
DTSTART:20261025T010000
END:STANDARD
BEGIN:DAYLIGHT
TZOFFSETFROM:+0100
TZOFFSETTO:+0200
TZNAME:CEST
DTSTART:20270328T010000
END:DAYLIGHT
BEGIN:STANDARD
TZOFFSETFROM:+0200
TZOFFSETTO:+0100
TZNAME:CET
DTSTART:20271031T010000
END:STANDARD
END:VTIMEZONE
BEGIN:VEVENT
DTSTART;TZID=Europe/Paris:20260114T140000
DTEND;TZID=Europe/Paris:20260114T153000
DTSTAMP:20260421T124532
CREATED:20260106T105212Z
LAST-MODIFIED:20260106T105212Z
UID:9664-1768399200-1768404600@www.etis-lab.fr
SUMMARY:Data&AI Seminar - Khalil Bachiri
DESCRIPTION:Title: Multimodal and Heterogeneous Graph Learning for Robust\, Explainable and Frugal Intelligent Systems \nAbstract:\nThe increasing availability of heterogeneous and multimodal data poses significant challenges for the design of modern intelligent systems\, particularly in terms of representation\, fusion\, robustness\, explainability\, and computational frugality. These challenges become even more critical when data are structured through complex and evolving relational graphs\, as is often the case in real-world applications. In this presentation\, I will introduce my research contributions on multimodal and heterogeneous graph learning\, developed during my PhD\, with the objective of designing models capable of understanding\, reasoning\, and learning from interacting modalities. I will present graph-based and topology-aware learning architectures that explicitly model modality heterogeneity\, inter-modal dependencies\, and structural relations\, while relying on adaptive fusion\, alignment mechanisms\, and attention-based reasoning to improve robustness\, stability\, and interpretability. These approaches have been validated on real-world recommendation and decision-support scenarios and have led to several international publications. Finally\, I will outline my research perspectives\, aiming to further develop robust\, energy-efficient\, and explainable multimodal intelligent systems\, including responsible AI\, multimodal platforms\, and low-footprint learning for complex environments. \nShort Bio:\nKhalil Bachiri is a Doctor in Artificial Intelligence from CY Cergy Paris Université (ETIS\, CNRS UMR 8051)\, where he is currently an ATER. His research focuses on multimodal learning and heterogeneous graph learning\, topology-aware models\, and explainable AI\, with an emphasis on robustness\, frugality\, and multimodal reasoning for recommendation and decision-support systems. He has published in international journals and conferences. He also worked as an AI Research Engineer at CNRS and has been a visiting researcher at LIPN (Université Sorbonne Paris Nord). \n 
URL:https://www.etis-lab.fr/event/dataai-seminar-khalil-bachiri/
LOCATION:Online
CATEGORIES:Seminar
ORGANIZER;CN="Vassiis Christophides":MAILTO:vassilis.christophides@ensea.fr
END:VEVENT
END:VCALENDAR