BEGIN:VCALENDAR
VERSION:2.0
PRODID:-//Etis - ECPv6.15.20//NONSGML v1.0//EN
CALSCALE:GREGORIAN
METHOD:PUBLISH
X-ORIGINAL-URL:https://www.etis-lab.fr
X-WR-CALDESC:Events for Etis
REFRESH-INTERVAL;VALUE=DURATION:PT1H
X-Robots-Tag:noindex
X-PUBLISHED-TTL:PT1H
BEGIN:VTIMEZONE
TZID:Europe/Paris
BEGIN:DAYLIGHT
TZOFFSETFROM:+0100
TZOFFSETTO:+0200
TZNAME:CEST
DTSTART:20250330T010000
END:DAYLIGHT
BEGIN:STANDARD
TZOFFSETFROM:+0200
TZOFFSETTO:+0100
TZNAME:CET
DTSTART:20251026T010000
END:STANDARD
BEGIN:DAYLIGHT
TZOFFSETFROM:+0100
TZOFFSETTO:+0200
TZNAME:CEST
DTSTART:20260329T010000
END:DAYLIGHT
BEGIN:STANDARD
TZOFFSETFROM:+0200
TZOFFSETTO:+0100
TZNAME:CET
DTSTART:20261025T010000
END:STANDARD
BEGIN:DAYLIGHT
TZOFFSETFROM:+0100
TZOFFSETTO:+0200
TZNAME:CEST
DTSTART:20270328T010000
END:DAYLIGHT
BEGIN:STANDARD
TZOFFSETFROM:+0200
TZOFFSETTO:+0100
TZNAME:CET
DTSTART:20271031T010000
END:STANDARD
END:VTIMEZONE
BEGIN:VEVENT
DTSTART;TZID=Europe/Paris:20260205T093000
DTEND;TZID=Europe/Paris:20260205T120000
DTSTAMP:20260421T150930
CREATED:20260130T093713Z
LAST-MODIFIED:20260130T093713Z
UID:9850-1770283800-1770292800@www.etis-lab.fr
SUMMARY:Soutenance de thèse : Mouncef Naji
DESCRIPTION:Mouncef Naji soutient sa thèse “Semantic Personalization of Informed Consent based on Knowledge Graph Reasoning and Large Language Models” le 5 février 2026 à CY Cergy Paris Université. \nRésumé\nCette thèse porte sur la personnalisation du consentement éclairé dans le domaine de la santé. Elle cherche à répondre à la question centrale : Comment concevoir un système capable de produire un consentement médical qui soit à la fois conforme à la loi\, compréhensible et adapté au profil du patient\, et assistant le personnel soignant à la proposition des soins ? Pour répondre à cette problématique\, la thèse s’articule autour de trois pilliers principaux : la conformité légale\, la personnalisation du consentement\, et la recommandation de soins. La solution proposée explore l’intersection entre les technologies sémantiques et l’intelligence artificielle générative\, à travers le système SPIRIT (Semantic Personalized and Compliant System for Informed consent and care Recommendation). \nLes principales contributions de ce travail comprennent : (i) une approche basée sur l’ontologie pour garantir la conformité légale\, (ii) un cadre de raisonnement sémantique pour la génération de consentements personnalisés\, et (iii) un système de recommandation infirmière fondé sur des graphes de connaissances. Enfin\, une preuve de concept fonctionnelle valide la faisabilité de l’approche et ouvre des perspectives d’expérimentation en conditions réelles\, notamment vers des extensions multilingues et multimodales. \nAbstract\nThis thesis focuses on the personalization of informed consent in healthcare. It seeks to address the central question: How can we design a system capable of producing a medical consent that is simultaneously legally compliant\, comprehensible\, and adapted to the patient’s profile\, while supporting healthcare professionals in proposing appropriate care plans?\nTo answer this question\, the research is structured around three key pillars: legal compliance\, consent personalization\, and care recommendation. The proposed solution explores the intersection of semantic technologies and generative AI\, by proposing SPIRIT (Semantic Personalized and Compliant System for Informed consent and care Recommendation).\nThe main contributions of this work include: (i) an ontology-driven approach for ensuring legal compliance\, (ii) a semantic reasoning framework for personalized consent generation\, and (iii) a knowledge-graph-based system for nursing recommendations. Finally\, a functional proof of concept validates the feasibility of the approach and opens perspectives for real-world deployment\, including multilingual and multimodal extensions. \nComposition du jury\n\nHajer BAAZAOUI\, CY Cergy Paris Université\, Directrice\nMaroua MASMOUDI\, Université de Rennes\, Co-Directrice\nZoltan MIKLOS\, Université de Rennes\, Rapporteur\nMourad ABED\, Université Polytechnique Hauts-de-France\, Rapporteur\nMarie-Hélène ABEL\, Université de Compiègne\, Examinatrice\nGayo DIALLO\, Université de Bordeaux\, Examinateur\nJean-Marie JANUEL\, Fondation Léonie-Chaptal\, Invité\n\nLieu et date\n\nCY Cergy Paris Université (site Saint-Martin)\, amphithéâtre E3 (2 Av. Adolphe Chauvin\, 95300 Pontoise)\n5 février 2026 à 09h30\n\n 
URL:https://www.etis-lab.fr/event/soutenance-de-these-mouncef-naji/
LOCATION:CY Cergy Paris Uniersité – site de Saint-Martin\, amphi E3\, 2 avenue Adolphe-Chauvin\, Pontoise\, 95300\, France
CATEGORIES:PhD Defense
ATTACH;FMTTYPE=image/jpeg:https://www.etis-lab.fr/wp-content/uploads/2024/12/mouncef_naji.jpg
ORGANIZER;CN="Mouncef Naji":MAILTO:mouncef.naji@ensea.fr
END:VEVENT
END:VCALENDAR