BEGIN:VCALENDAR
VERSION:2.0
PRODID:-//Etis - ECPv6.15.20//NONSGML v1.0//EN
CALSCALE:GREGORIAN
METHOD:PUBLISH
X-ORIGINAL-URL:https://www.etis-lab.fr
X-WR-CALDESC:Events for Etis
REFRESH-INTERVAL;VALUE=DURATION:PT1H
X-Robots-Tag:noindex
X-PUBLISHED-TTL:PT1H
BEGIN:VTIMEZONE
TZID:Europe/Paris
BEGIN:DAYLIGHT
TZOFFSETFROM:+0100
TZOFFSETTO:+0200
TZNAME:CEST
DTSTART:20250330T010000
END:DAYLIGHT
BEGIN:STANDARD
TZOFFSETFROM:+0200
TZOFFSETTO:+0100
TZNAME:CET
DTSTART:20251026T010000
END:STANDARD
BEGIN:DAYLIGHT
TZOFFSETFROM:+0100
TZOFFSETTO:+0200
TZNAME:CEST
DTSTART:20260329T010000
END:DAYLIGHT
BEGIN:STANDARD
TZOFFSETFROM:+0200
TZOFFSETTO:+0100
TZNAME:CET
DTSTART:20261025T010000
END:STANDARD
BEGIN:DAYLIGHT
TZOFFSETFROM:+0100
TZOFFSETTO:+0200
TZNAME:CEST
DTSTART:20270328T010000
END:DAYLIGHT
BEGIN:STANDARD
TZOFFSETFROM:+0200
TZOFFSETTO:+0100
TZNAME:CET
DTSTART:20271031T010000
END:STANDARD
END:VTIMEZONE
BEGIN:VEVENT
DTSTART;TZID=Europe/Paris:20260219T150000
DTEND;TZID=Europe/Paris:20260219T160000
DTSTAMP:20260421T112502
CREATED:20260119T160023Z
LAST-MODIFIED:20260213T132721Z
UID:9735-1771513200-1771516800@www.etis-lab.fr
SUMMARY:ETIS seminar: Michel Bourdellès
DESCRIPTION:Intégration de services au processus de réalisation de systèmes pour la validation automatique d’exigences de sécurité\nDr. Michel Bourdellès \nMots clefs : Security\, Model-Based Systems Engineering (MBSE)\, Model-Based Product Line Engineering (MBPLE)\, System of Systems Engineering\, systems architecting\, Early Validation and Audit. \nRésumé : La mise en œuvre des mécanismes de protection adéquats de flux de données des systèmes\, traduits en exigences de sécurité issues d’une analyse de risque\, est une contrainte forte de la réalisation des produits. Ces mécanismes\, logiciels et matériels\, doivent garantir la validation des contraintes initiales de sécurité sur le produit final avant mise en production. Nous listons un ensemble de besoins que doit satisfaire le processus industriel de réalisation produit afin de prendre au mieux en compte ces exigences dans le produit. Nous proposons un ensemble de services pour compléter les processus industriels basés sur la validation d’exigences opérationnelles afin d’analyser la correction des choix de conception système par rapport aux exigences de sécurité\, et produire automatiquement du code de sécurité. La solution proposée prend aussi en compte les contraintes liées au processus de réalisation lui-même en assurant le besoin d’en connaître par la protection à l’accès par les parties prenantes de l’information confidentielle\, étendu à la réalisation de lignes de produits\, ainsi que de l’application de la solution à des systèmes de systèmes. \nShort Bio: Michel Bourdellès est enseignant chercheur en cybersécurité à l’ESIEE-IT\, associé à l’équipe SecReizh de l’Université Bretagne Sud. Ses thèmes de recherche\, influencés par plus de vingt ans d’activités comme ingénieur dans un grand groupe de la défense\, portent sur la validation automatique d’exigences de sécurité de systèmes industriels. \n 
URL:https://www.etis-lab.fr/event/etis-seminar-michel-bourdelles/
LOCATION:CY Cergy Paris Université\, site de Saint-Martin\, 2 Av. Adolphe Chauvin\, Pontoise\, 95300\, France
CATEGORIES:ETIS,Seminar
ORGANIZER;CN="Aikaterini Tzompanaki":MAILTO:aikaterini.tzompanaki@ensea.fr
END:VEVENT
END:VCALENDAR