BEGIN:VCALENDAR
VERSION:2.0
PRODID:-//Etis - ECPv6.15.20//NONSGML v1.0//EN
CALSCALE:GREGORIAN
METHOD:PUBLISH
X-WR-CALNAME:Etis
X-ORIGINAL-URL:https://www.etis-lab.fr
X-WR-CALDESC:Events for Etis
REFRESH-INTERVAL;VALUE=DURATION:PT1H
X-Robots-Tag:noindex
X-PUBLISHED-TTL:PT1H
BEGIN:VTIMEZONE
TZID:Europe/Paris
BEGIN:DAYLIGHT
TZOFFSETFROM:+0100
TZOFFSETTO:+0200
TZNAME:CEST
DTSTART:20230326T010000
END:DAYLIGHT
BEGIN:STANDARD
TZOFFSETFROM:+0200
TZOFFSETTO:+0100
TZNAME:CET
DTSTART:20231029T010000
END:STANDARD
BEGIN:DAYLIGHT
TZOFFSETFROM:+0100
TZOFFSETTO:+0200
TZNAME:CEST
DTSTART:20240331T010000
END:DAYLIGHT
BEGIN:STANDARD
TZOFFSETFROM:+0200
TZOFFSETTO:+0100
TZNAME:CET
DTSTART:20241027T010000
END:STANDARD
BEGIN:DAYLIGHT
TZOFFSETFROM:+0100
TZOFFSETTO:+0200
TZNAME:CEST
DTSTART:20250330T010000
END:DAYLIGHT
BEGIN:STANDARD
TZOFFSETFROM:+0200
TZOFFSETTO:+0100
TZNAME:CET
DTSTART:20251026T010000
END:STANDARD
END:VTIMEZONE
BEGIN:VEVENT
DTSTART;TZID=Europe/Paris:20240703T140000
DTEND;TZID=Europe/Paris:20240703T150000
DTSTAMP:20260422T110224
CREATED:20240628T093720Z
LAST-MODIFIED:20240628T093720Z
UID:8407-1720015200-1720018800@www.etis-lab.fr
SUMMARY:Séminaire ETIS : Stéphane Canu
DESCRIPTION:“Recherches actuelles en IA et apprentissage” / “Latest research trends in AI & ML”\nStéphane Canu\nLaboratoire LITIS EA 4108 – INSA de Rouen\, Normandie Université\, et\nAdjoint du Directeur scientifique du secteur mathématiques\, physiques\, nanosciences et STIC (en charge de l’IA)\nService de la Stratégie de la Recherche et de l’Innovation\,\nMinistère de l’Enseignement Supérieur et de la Recherche \n 
URL:https://www.etis-lab.fr/event/seminaire-etis-stephane-canu/
LOCATION:Office du tourisme de Pontoise\, Place de la Piscine\, Pontoise\, 95300\, France
CATEGORIES:ETIS,Seminar
ATTACH;FMTTYPE=image/jpeg:https://www.etis-lab.fr/wp-content/uploads/2024/06/s_canu_SJTU.jpg
END:VEVENT
BEGIN:VEVENT
DTSTART;TZID=Europe/Paris:20240704T110000
DTEND;TZID=Europe/Paris:20240704T123000
DTSTAMP:20260422T110224
CREATED:20240628T094357Z
LAST-MODIFIED:20240628T094449Z
UID:8411-1720090800-1720096200@www.etis-lab.fr
SUMMARY:Séminaire NEURO - Lionel Obadia
DESCRIPTION:“Do robots offer a good opportunity for ethnographic investigation?” reflections based on research in progress\nLionel Obadia (Université Lumière Lyon 2 / LARHRA) \nThe ethnography of robots is a fast-developing field of investigation\, but one with currently ill-defined boundaries: research based on direct experience of robots (in the lab / in the wild)\, observation\, analysis and reporting\, is gradually becoming established in the landscape of methodological approaches to the study of robots ‘in society’ or human-machine interactions. However\, not everything referred to as ethnography is based on exactly the same empirical approaches or contextualised theorising. Using a few examples taken from my own fieldwork\, in laboratories\, museums and socialisation spaces in France and Japan\, I will try to show the scope and limits of an anthropologically inspired ethnography\, in the case of robotic or robotised fieldwork\, possibly compared with other similar environmental ethnographies. \nLionel Obadia is a professor of social and cultural anthropology at the Université Lumière Lyon 2\, specialising in religions\, magic and witchcraft. He is the author of over 200 publications and several books\, including Bouddhisme et Occident (L’Harmattan)\, Shalom Bouddha! (Berg)\, La religion et La sorcellerie : mythes et réalités (Le Cavalier bleu)\, La marchandisation de Dieu (CNRS)\, L’anthropologie des religions et La spiritualité (La Découverte).
URL:https://www.etis-lab.fr/event/seminaire-neuro-lionel-obadia/
LOCATION:CY St-Martin\, ETIS meeting room\, avenue François-Mitterand\, Cergy\, France
CATEGORIES:ETIS,Seminar
ORGANIZER;CN="Joffrey Becker":MAILTO:joffrey.becker@ensea.fr
END:VEVENT
BEGIN:VEVENT
DTSTART;TZID=Europe/Paris:20240705T093000
DTEND;TZID=Europe/Paris:20240705T170000
DTSTAMP:20260422T110224
CREATED:20240624T134609Z
LAST-MODIFIED:20240624T134705Z
UID:8400-1720171800-1720198800@www.etis-lab.fr
SUMMARY:Les roboticiens à l’heure des défis écologiques
DESCRIPTION:Journée organisée par Arnaud Blanchard (ETIS) et Jonathan Dumon (GIPSA-Lab). \nOn se demandera ce que la robotique peut faire  et aussi ce qu’elle ne devrait pas faire. Les thèmes abordés sont: \n9h30 : Accueil / café\n10h : Réduction de l’empreinte écologique de la robotique\n10h40 : Applications robotiques pour l’écologie\n12h : 13h30 Repas\n14h : Évaluation systémique et effets rebonds\n15h : Leviers d’actions\n16h : Pause café\n16h15 : Discussion / table ronde sur les leviers d’actions \nPlus de détails sur le programme et inscription ici :\nhttps://www.academieduclimat.paris/evenements/les-roboticiens-a-lheure-des-defis-ecologiques/
URL:https://www.etis-lab.fr/event/les-roboticiens-a-lheure-des-defis-ecologiques-2/
LOCATION:Académie du Climat\, 2\, place Baudoyer\, Paris\, 75004\, France
CATEGORIES:Conference,ETIS
ATTACH;FMTTYPE=image/png:https://www.etis-lab.fr/wp-content/uploads/2024/06/debat_robot_square-1-582x380-1.png
ORGANIZER;CN="Arnaud Blanchard":MAILTO:arnaud.blanchard@etis-lab.fr
END:VEVENT
END:VCALENDAR